Package: RIVER Version: 1.31.0 Command: E:\biocbuild\bbs-3.21-bioc\R\bin\R.exe CMD INSTALL RIVER StartedAt: 2025-02-16 16:00:45 -0500 (Sun, 16 Feb 2025) EndedAt: 2025-02-16 16:00:58 -0500 (Sun, 16 Feb 2025) EllapsedTime: 13.5 seconds RetCode: 0 Status: OK