Package: RIVER Version: 1.33.0 Command: /home/biocbuild/bbs-3.22-bioc/R/bin/R CMD INSTALL RIVER StartedAt: 2025-09-30 15:13:23 -0400 (Tue, 30 Sep 2025) EndedAt: 2025-09-30 15:13:31 -0400 (Tue, 30 Sep 2025) EllapsedTime: 8.3 seconds RetCode: 0 Status: OK