Package: RIVER Version: 1.31.0 Command: rm -rf RIVER.buildbin-libdir && mkdir RIVER.buildbin-libdir && /Users/biocbuild/BBS/utils/build-universal.sh RIVER_1.31.0.tar.gz /Library/Frameworks/R.framework/Resources/bin/R RIVER.buildbin-libdir StartedAt: 2025-02-17 00:39:07 -0500 (Mon, 17 Feb 2025) EndedAt: 2025-02-17 00:39:22 -0500 (Mon, 17 Feb 2025) EllapsedTime: 14.9 seconds RetCode: 0 Status: OK PackageFile: RIVER_1.31.0.tgz PackageFileSize: 1.504 MiB