Package: RIVER Version: 1.31.0 Command: /home/biocbuild/R/R/bin/R CMD INSTALL RIVER StartedAt: 2025-01-29 20:19:47 -0000 (Wed, 29 Jan 2025) EndedAt: 2025-01-29 20:19:57 -0000 (Wed, 29 Jan 2025) EllapsedTime: 10.4 seconds RetCode: 0 Status: OK