Package: RIVER Version: 1.31.0 Command: /home/biocbuild/R/R/bin/R CMD build --keep-empty-dirs --no-resave-data RIVER StartedAt: 2025-01-29 01:43:49 -0000 (Wed, 29 Jan 2025) EndedAt: 2025-01-29 01:44:21 -0000 (Wed, 29 Jan 2025) EllapsedTime: 32.0 seconds RetCode: 0 Status: OK PackageFile: RIVER_1.31.0.tar.gz PackageFileSize: 1.327 MiB