Package: RGSEA Version: 1.41.0 Command: /home/biocbuild/R/R/bin/R CMD build --keep-empty-dirs --no-resave-data RGSEA StartedAt: 2025-01-29 01:40:25 -0000 (Wed, 29 Jan 2025) EndedAt: 2025-01-29 01:41:38 -0000 (Wed, 29 Jan 2025) EllapsedTime: 73.1 seconds RetCode: 0 Status: OK PackageFile: RGSEA_1.41.0.tar.gz PackageFileSize: 1.717 MiB