Package: RGSEA Version: 1.43.0 Maintainer: Chengcheng Ma MaintainerEmail: ccma at sibs.ac.cn git_url: https://git.bioconductor.org/packages/RGSEA git_branch: devel git_last_commit: c986e80 git_last_commit_date: 2025-04-15 10:31:58 -0400 (Tue, 15 Apr 2025)