Package: RFLOMICS Version: 1.3.0 Command: /home/biocbuild/bbs-3.23-bioc/R/bin/R CMD build --keep-empty-dirs --no-resave-data RFLOMICS StartedAt: 2025-11-05 19:36:59 -0500 (Wed, 05 Nov 2025) EndedAt: 2025-11-05 19:39:18 -0500 (Wed, 05 Nov 2025) EllapsedTime: 139.2 seconds RetCode: 0 Status: OK PackageFile: RFLOMICS_1.3.0.tar.gz PackageFileSize: 5.184 MiB