Package: RFLOMICS Version: 1.1.4 Command: /Library/Frameworks/R.framework/Resources/bin/R CMD INSTALL RFLOMICS StartedAt: 2025-10-17 15:42:13 -0400 (Fri, 17 Oct 2025) EndedAt: 2025-10-17 15:43:29 -0400 (Fri, 17 Oct 2025) EllapsedTime: 76.5 seconds RetCode: 0 Status: OK