Package: RFLOMICS Version: 1.1.4 Command: /Library/Frameworks/R.framework/Resources/bin/R CMD build --keep-empty-dirs --no-resave-data RFLOMICS StartedAt: 2025-10-16 19:28:21 -0400 (Thu, 16 Oct 2025) EndedAt: 2025-10-16 19:31:44 -0400 (Thu, 16 Oct 2025) EllapsedTime: 203.2 seconds RetCode: 0 Status: OK PackageFile: RFLOMICS_1.1.4.tar.gz PackageFileSize: 5.076 MiB