Package: RFLOMICS Version: 1.1.4 Command: rm -rf RFLOMICS.buildbin-libdir && mkdir RFLOMICS.buildbin-libdir && /Users/biocbuild/BBS/utils/build-universal.sh RFLOMICS_1.1.4.tar.gz /Library/Frameworks/R.framework/Resources/bin/R RFLOMICS.buildbin-libdir StartedAt: 2025-10-18 03:17:04 -0400 (Sat, 18 Oct 2025) EndedAt: 2025-10-18 03:18:23 -0400 (Sat, 18 Oct 2025) EllapsedTime: 78.6 seconds RetCode: 0 Status: OK PackageFile: RFLOMICS_1.1.4.tgz PackageFileSize: 4.923 MiB