Package: RFLOMICS Version: 1.1.4 Command: /Library/Frameworks/R.framework/Resources/bin/R CMD INSTALL RFLOMICS StartedAt: 2025-10-08 15:32:06 -0400 (Wed, 08 Oct 2025) EndedAt: 2025-10-08 15:32:27 -0400 (Wed, 08 Oct 2025) EllapsedTime: 20.9 seconds RetCode: 0 Status: OK