Package: RFLOMICS Version: 1.1.4 Command: /Library/Frameworks/R.framework/Resources/bin/R CMD build --keep-empty-dirs --no-resave-data RFLOMICS StartedAt: 2025-10-08 17:35:40 -0400 (Wed, 08 Oct 2025) EndedAt: 2025-10-08 17:36:40 -0400 (Wed, 08 Oct 2025) EllapsedTime: 59.7 seconds RetCode: 0 Status: OK PackageFile: RFLOMICS_1.1.4.tar.gz PackageFileSize: 5.092 MiB