Package: RFLOMICS Version: 1.3.0 Maintainer: Nadia Bessoltane MaintainerEmail: nadia.bessoltane at inrae.fr git_url: https://git.bioconductor.org/packages/RFLOMICS git_branch: devel git_last_commit: a7a98e3 git_last_commit_date: 2025-10-29 11:35:35 -0400 (Wed, 29 Oct 2025)