Package: RESOLVE Version: 1.11.1 Command: rm -rf RESOLVE.buildbin-libdir && mkdir RESOLVE.buildbin-libdir && F:\biocbuild\bbs-3.22-bioc\R\bin\R.exe CMD INSTALL --build --library=RESOLVE.buildbin-libdir RESOLVE_1.11.1.tar.gz StartedAt: 2025-08-15 11:06:56 -0400 (Fri, 15 Aug 2025) EndedAt: 2025-08-15 11:07:55 -0400 (Fri, 15 Aug 2025) EllapsedTime: 59.3 seconds RetCode: 0 Status: OK PackageFile: RESOLVE_1.11.1.zip PackageFileSize: 1010 KiB