Package: REMP Version: 1.31.0 Command: rm -rf REMP.buildbin-libdir && mkdir REMP.buildbin-libdir && E:\biocbuild\bbs-3.21-bioc\R\bin\R.exe CMD INSTALL --build --library=REMP.buildbin-libdir REMP_1.31.0.tar.gz StartedAt: 2025-02-03 08:04:33 -0500 (Mon, 03 Feb 2025) EndedAt: 2025-02-03 08:05:50 -0500 (Mon, 03 Feb 2025) EllapsedTime: 76.7 seconds RetCode: 0 Status: OK PackageFile: REMP_1.31.0.zip PackageFileSize: 695.4 KiB