Package: REMP Version: 1.33.1 Command: /home/biocbuild/bbs-3.22-bioc/R/bin/R CMD INSTALL REMP StartedAt: 2025-09-29 15:49:34 -0400 (Mon, 29 Sep 2025) EndedAt: 2025-09-29 15:50:49 -0400 (Mon, 29 Sep 2025) EllapsedTime: 75.4 seconds RetCode: 0 Status: OK