Package: REDseq Version: 1.55.0 Command: chmod a+r REDseq -R && F:\biocbuild\bbs-3.22-bioc\R\bin\R.exe CMD build --keep-empty-dirs --no-resave-data REDseq StartedAt: 2025-08-14 22:41:34 -0400 (Thu, 14 Aug 2025) EndedAt: 2025-08-14 22:43:10 -0400 (Thu, 14 Aug 2025) EllapsedTime: 96.0 seconds RetCode: 0 Status: OK PackageFile: REDseq_1.55.0.tar.gz PackageFileSize: 157.5 KiB