Package: REBET Version: 1.27.0 Command: /home/biocbuild/bbs-3.22-bioc/R/bin/R CMD INSTALL REBET StartedAt: 2025-10-27 15:09:18 -0400 (Mon, 27 Oct 2025) EndedAt: 2025-10-27 15:09:53 -0400 (Mon, 27 Oct 2025) EllapsedTime: 34.7 seconds RetCode: 0 Status: OK