Package: REBET Version: 1.27.0 Command: /home/biocbuild/bbs-3.22-bioc/R/bin/R CMD build --keep-empty-dirs --no-resave-data --md5 REBET StartedAt: 2025-10-27 19:34:08 -0400 (Mon, 27 Oct 2025) EndedAt: 2025-10-27 19:34:19 -0400 (Mon, 27 Oct 2025) EllapsedTime: 11.0 seconds RetCode: 0 Status: OK PackageFile: REBET_1.27.0.tar.gz PackageFileSize: 311.9 KiB