Package: REBET Version: 1.27.0 Command: /Library/Frameworks/R.framework/Resources/bin/R CMD build --keep-empty-dirs --no-resave-data REBET StartedAt: 2025-05-05 17:53:31 -0400 (Mon, 05 May 2025) EndedAt: 2025-05-05 17:53:38 -0400 (Mon, 05 May 2025) EllapsedTime: 7.1 seconds RetCode: 0 Status: OK PackageFile: REBET_1.27.0.tar.gz PackageFileSize: 309.7 KiB