Package: RDRToolbox Version: 1.59.0 Command: /home/biocbuild/R/R/bin/R CMD INSTALL RDRToolbox StartedAt: 2025-10-20 20:16:14 -0000 (Mon, 20 Oct 2025) EndedAt: 2025-10-20 20:17:16 -0000 (Mon, 20 Oct 2025) EllapsedTime: 61.4 seconds RetCode: 0 Status: OK