Package: RCyjs Version: 2.31.0 Command: /home/biocbuild/bbs-3.22-bioc/R/bin/R CMD INSTALL RCyjs StartedAt: 2025-10-03 15:11:25 -0400 (Fri, 03 Oct 2025) EndedAt: 2025-10-03 15:11:31 -0400 (Fri, 03 Oct 2025) EllapsedTime: 5.9 seconds RetCode: 0 Status: OK