Package: RCyjs Version: 2.31.0 Maintainer: Paul Shannon MaintainerEmail: paul.thurmond.shannon at gmail.com git_url: https://git.bioconductor.org/packages/RCyjs git_branch: devel git_last_commit: 4ca09d0 git_last_commit_date: 2025-04-15 10:50:16 -0400 (Tue, 15 Apr 2025)