Package: RCy3 Version: 2.29.1 Command: rm -rf RCy3.buildbin-libdir && mkdir RCy3.buildbin-libdir && F:\biocbuild\bbs-3.22-bioc\R\bin\R.exe CMD INSTALL --build --library=RCy3.buildbin-libdir RCy3_2.29.1.tar.gz StartedAt: 2025-08-15 11:04:34 -0400 (Fri, 15 Aug 2025) EndedAt: 2025-08-15 11:07:03 -0400 (Fri, 15 Aug 2025) EllapsedTime: 149.1 seconds RetCode: 0 Status: OK PackageFile: RCy3_2.29.1.zip PackageFileSize: 7.348 MiB