Package: RCy3 Version: 2.29.1 Command: /home/biocbuild/bbs-3.22-bioc/R/bin/R CMD INSTALL RCy3 StartedAt: 2025-10-03 15:11:32 -0400 (Fri, 03 Oct 2025) EndedAt: 2025-10-03 15:11:44 -0400 (Fri, 03 Oct 2025) EllapsedTime: 11.8 seconds RetCode: 0 Status: OK