Package: RCy3 Version: 2.29.1 Command: /home/biocbuild/bbs-3.22-bioc/R/bin/R CMD build --keep-empty-dirs --no-resave-data --md5 RCy3 StartedAt: 2025-10-03 19:31:25 -0400 (Fri, 03 Oct 2025) EndedAt: 2025-10-03 19:32:00 -0400 (Fri, 03 Oct 2025) EllapsedTime: 35.1 seconds RetCode: 0 Status: OK PackageFile: RCy3_2.29.1.tar.gz PackageFileSize: 6.482 MiB