Package: RCSL Version: 1.17.0 Command: rm -rf RCSL.buildbin-libdir && mkdir RCSL.buildbin-libdir && F:\biocbuild\bbs-3.22-bioc\R\bin\R.exe CMD INSTALL --build --library=RCSL.buildbin-libdir RCSL_1.17.0.tar.gz StartedAt: 2025-08-15 11:04:26 -0400 (Fri, 15 Aug 2025) EndedAt: 2025-08-15 11:04:47 -0400 (Fri, 15 Aug 2025) EllapsedTime: 20.5 seconds RetCode: 0 Status: OK PackageFile: RCSL_1.17.0.zip PackageFileSize: 2.884 MiB