Package: RCSL Version: 1.17.0 Command: /Library/Frameworks/R.framework/Resources/bin/R CMD build --keep-empty-dirs --no-resave-data RCSL StartedAt: 2025-05-01 18:03:08 -0400 (Thu, 01 May 2025) EndedAt: 2025-05-01 18:03:44 -0400 (Thu, 01 May 2025) EllapsedTime: 36.4 seconds RetCode: 0 Status: OK PackageFile: RCSL_1.17.0.tar.gz PackageFileSize: 1.983 MiB