Package: RCSL Version: 1.17.0 Command: /Library/Frameworks/R.framework/Resources/bin/R CMD check --install=check:RCSL.install-out.txt --library=/Library/Frameworks/R.framework/Resources/library --no-vignettes --timings RCSL_1.17.0.tar.gz StartedAt: 2025-05-04 21:11:29 -0400 (Sun, 04 May 2025) EndedAt: 2025-05-04 21:14:08 -0400 (Sun, 04 May 2025) EllapsedTime: 158.4 seconds RetCode: 0 Status: OK CheckDir: RCSL.Rcheck Warnings: 0