Package: RCSL Version: 1.17.0 Command: /Library/Frameworks/R.framework/Resources/bin/R CMD build --keep-empty-dirs --no-resave-data RCSL StartedAt: 2025-05-04 17:22:05 -0400 (Sun, 04 May 2025) EndedAt: 2025-05-04 17:22:18 -0400 (Sun, 04 May 2025) EllapsedTime: 13.1 seconds RetCode: 0 Status: OK PackageFile: RCSL_1.17.0.tar.gz PackageFileSize: 1.971 MiB