Package: RCSL Version: 1.19.0 Maintainer: Qinglin Mei MaintainerEmail: meiqinglinkf at 163.com git_url: https://git.bioconductor.org/packages/RCSL git_branch: devel git_last_commit: 01ddc6d git_last_commit_date: 2025-10-29 11:10:06 -0500 (Wed, 29 Oct 2025)