Package: RCM Version: 1.23.0 Command: rm -rf RCM.buildbin-libdir && mkdir RCM.buildbin-libdir && E:\biocbuild\bbs-3.21-bioc\R\bin\R.exe CMD INSTALL --build --library=RCM.buildbin-libdir RCM_1.23.0.tar.gz StartedAt: 2025-02-04 08:42:37 -0500 (Tue, 04 Feb 2025) EndedAt: 2025-02-04 08:43:41 -0500 (Tue, 04 Feb 2025) EllapsedTime: 64.6 seconds RetCode: 0 Status: OK PackageFile: RCM_1.23.0.zip PackageFileSize: 3.398 MiB