Package: RCM Version: 1.23.0 Command: /Library/Frameworks/R.framework/Resources/bin/R CMD INSTALL RCM StartedAt: 2025-02-03 15:40:47 -0500 (Mon, 03 Feb 2025) EndedAt: 2025-02-03 15:41:17 -0500 (Mon, 03 Feb 2025) EllapsedTime: 29.9 seconds RetCode: 0 Status: OK