Package: RCM Version: 1.23.0 Command: /Library/Frameworks/R.framework/Resources/bin/R CMD build --keep-empty-dirs --no-resave-data RCM StartedAt: 2025-02-03 17:57:33 -0500 (Mon, 03 Feb 2025) EndedAt: 2025-02-03 17:57:55 -0500 (Mon, 03 Feb 2025) EllapsedTime: 21.2 seconds RetCode: 0 Status: OK PackageFile: RCM_1.23.0.tar.gz PackageFileSize: 4.822 MiB