Package: RCM Version: 1.23.0 Maintainer: Stijn Hawinkel MaintainerEmail: stijn.hawinkel at psb.ugent.be git_url: https://git.bioconductor.org/packages/RCM git_branch: devel git_last_commit: 0cde287 git_last_commit_date: 2024-10-29 10:33:56 -0500 (Tue, 29 Oct 2024)