Package: RCASPAR Version: 1.55.0 Command: /Library/Frameworks/R.framework/Resources/bin/R CMD build --keep-empty-dirs --no-resave-data RCASPAR StartedAt: 2025-05-06 18:03:10 -0400 (Tue, 06 May 2025) EndedAt: 2025-05-06 18:03:20 -0400 (Tue, 06 May 2025) EllapsedTime: 10.2 seconds RetCode: 0 Status: OK PackageFile: RCASPAR_1.55.0.tar.gz PackageFileSize: 304.7 KiB