Package: RCASPAR Version: 1.55.0 Command: /Library/Frameworks/R.framework/Resources/bin/R CMD INSTALL RCASPAR StartedAt: 2025-05-07 15:01:37 -0400 (Wed, 07 May 2025) EndedAt: 2025-05-07 15:01:39 -0400 (Wed, 07 May 2025) EllapsedTime: 1.6 seconds RetCode: 0 Status: OK