Package: RCASPAR Version: 1.55.0 Command: /Library/Frameworks/R.framework/Resources/bin/R CMD check --install=check:RCASPAR.install-out.txt --library=/Library/Frameworks/R.framework/Resources/library --no-vignettes --timings RCASPAR_1.55.0.tar.gz StartedAt: 2025-05-08 21:26:00 -0400 (Thu, 08 May 2025) EndedAt: 2025-05-08 21:26:13 -0400 (Thu, 08 May 2025) EllapsedTime: 13.2 seconds RetCode: 0 Status: OK CheckDir: RCASPAR.Rcheck Warnings: 0