Package: RCASPAR Version: 1.55.0 Command: /Library/Frameworks/R.framework/Resources/bin/R CMD build --keep-empty-dirs --no-resave-data RCASPAR StartedAt: 2025-05-08 17:25:17 -0400 (Thu, 08 May 2025) EndedAt: 2025-05-08 17:25:22 -0400 (Thu, 08 May 2025) EllapsedTime: 4.0 seconds RetCode: 0 Status: OK PackageFile: RCASPAR_1.55.0.tar.gz PackageFileSize: 304.9 KiB