Package: RCAS Version: 1.35.0 Command: /home/biocbuild/bbs-3.22-bioc/R/bin/R CMD INSTALL RCAS StartedAt: 2025-10-15 15:39:56 -0400 (Wed, 15 Oct 2025) EndedAt: 2025-10-15 15:40:45 -0400 (Wed, 15 Oct 2025) EllapsedTime: 48.9 seconds RetCode: 0 Status: OK