Package: RCAS Version: 1.35.0 Command: /home/biocbuild/bbs-3.22-bioc/R/bin/R CMD build --keep-empty-dirs --no-resave-data --md5 RCAS StartedAt: 2025-10-15 19:41:00 -0400 (Wed, 15 Oct 2025) EndedAt: 2025-10-15 19:43:36 -0400 (Wed, 15 Oct 2025) EllapsedTime: 155.2 seconds RetCode: 0 Status: OK PackageFile: RCAS_1.35.0.tar.gz PackageFileSize: 1.513 MiB