Package: RBioinf Version: 1.67.1 Command: chmod a+r RBioinf -R && F:\biocbuild\bbs-3.22-bioc\R\bin\R.exe CMD build --keep-empty-dirs --no-resave-data RBioinf StartedAt: 2025-04-08 21:44:12 -0400 (Tue, 08 Apr 2025) EndedAt: 2025-04-08 21:44:31 -0400 (Tue, 08 Apr 2025) EllapsedTime: 19.0 seconds RetCode: 0 Status: OK PackageFile: RBioinf_1.67.1.tar.gz PackageFileSize: 3.436 MiB