Package: RBioinf Version: 1.67.0 Command: E:\biocbuild\bbs-3.21-bioc\R\bin\R.exe CMD check --no-multiarch --install=check:RBioinf.install-out.txt --library=E:\biocbuild\bbs-3.21-bioc\R\library --no-vignettes --timings RBioinf_1.67.0.tar.gz StartedAt: 2025-02-17 04:17:40 -0500 (Mon, 17 Feb 2025) EndedAt: 2025-02-17 04:18:14 -0500 (Mon, 17 Feb 2025) EllapsedTime: 33.8 seconds RetCode: 0 Status: OK CheckDir: RBioinf.Rcheck Warnings: 0