Package: RBioinf Version: 1.67.1 Maintainer: Robert Gentleman MaintainerEmail: rgentlem at gmail.com git_url: https://git.bioconductor.org/packages/RBioinf git_branch: devel git_last_commit: 052ec63 git_last_commit_date: 2025-02-25 13:55:33 -0400 (Tue, 25 Feb 2025)