Package: RBioFormats Version: 1.7.0 Command: E:\biocbuild\bbs-3.21-bioc\R\bin\R.exe CMD INSTALL RBioFormats StartedAt: 2025-02-16 15:33:43 -0500 (Sun, 16 Feb 2025) EndedAt: 2025-02-16 15:34:12 -0500 (Sun, 16 Feb 2025) EllapsedTime: 28.4 seconds RetCode: 0 Status: OK