Package: RBM Version: 1.39.0 Command: E:\biocbuild\bbs-3.21-bioc\R\bin\R.exe CMD INSTALL RBM StartedAt: 2025-02-03 15:39:07 -0500 (Mon, 03 Feb 2025) EndedAt: 2025-02-03 15:39:13 -0500 (Mon, 03 Feb 2025) EllapsedTime: 6.0 seconds RetCode: 0 Status: OK