Package: RBM Version: 1.39.0 Command: /home/biocbuild/bbs-3.21-bioc/R/bin/R CMD build --keep-empty-dirs --no-resave-data RBM StartedAt: 2025-02-05 18:50:10 -0500 (Wed, 05 Feb 2025) EndedAt: 2025-02-05 18:50:41 -0500 (Wed, 05 Feb 2025) EllapsedTime: 31.0 seconds RetCode: 0 Status: OK PackageFile: RBM_1.39.0.tar.gz PackageFileSize: 370.8 KiB