Package: RBM Version: 1.39.0 Command: /Library/Frameworks/R.framework/Resources/bin/R CMD INSTALL RBM StartedAt: 2025-02-05 15:06:57 -0500 (Wed, 05 Feb 2025) EndedAt: 2025-02-05 15:07:23 -0500 (Wed, 05 Feb 2025) EllapsedTime: 26.0 seconds RetCode: 0 Status: OK