Package: RBM Version: 1.41.0 Command: rm -rf RBM.buildbin-libdir && mkdir RBM.buildbin-libdir && /Users/biocbuild/BBS/utils/build-universal.sh RBM_1.41.0.tar.gz /Library/Frameworks/R.framework/Resources/bin/R RBM.buildbin-libdir StartedAt: 2025-10-14 03:02:12 -0400 (Tue, 14 Oct 2025) EndedAt: 2025-10-14 03:02:20 -0400 (Tue, 14 Oct 2025) EllapsedTime: 8.1 seconds RetCode: 0 Status: OK PackageFile: RBM_1.41.0.tgz PackageFileSize: 394.3 KiB